BEGIN:VCALENDAR
VERSION:2.0
PRODID:-//jEvents 2.0 for Joomla//EN
CALSCALE:GREGORIAN
METHOD:PUBLISH
BEGIN:VTIMEZONE
TZID:Europe/Berlin
BEGIN:STANDARD
DTSTART:20190327T200000
RDATE:20190331T030000
TZOFFSETFROM:+0200
TZOFFSETTO:+0100
TZNAME:Europe/Berlin CET
END:STANDARD
BEGIN:STANDARD
DTSTART:20191027T020000
RDATE:20200329T030000
TZOFFSETFROM:+0200
TZOFFSETTO:+0100
TZNAME:Europe/Berlin CET
END:STANDARD
BEGIN:STANDARD
DTSTART:20201025T020000
RDATE:20210328T030000
TZOFFSETFROM:+0200
TZOFFSETTO:+0100
TZNAME:Europe/Berlin CET
END:STANDARD
BEGIN:STANDARD
DTSTART:20211031T020000
RDATE:20220327T030000
TZOFFSETFROM:+0200
TZOFFSETTO:+0100
TZNAME:Europe/Berlin CET
END:STANDARD
BEGIN:STANDARD
DTSTART:20221030T020000
RDATE:20230326T030000
TZOFFSETFROM:+0200
TZOFFSETTO:+0100
TZNAME:Europe/Berlin CET
END:STANDARD
BEGIN:STANDARD
DTSTART:20231029T020000
RDATE:20240331T030000
TZOFFSETFROM:+0200
TZOFFSETTO:+0100
TZNAME:Europe/Berlin CET
END:STANDARD
BEGIN:STANDARD
DTSTART:20241027T020000
RDATE:20250330T030000
TZOFFSETFROM:+0200
TZOFFSETTO:+0100
TZNAME:Europe/Berlin CET
END:STANDARD
BEGIN:STANDARD
DTSTART:20251026T020000
RDATE:20260329T030000
TZOFFSETFROM:+0200
TZOFFSETTO:+0100
TZNAME:Europe/Berlin CET
END:STANDARD
BEGIN:STANDARD
DTSTART:20261025T020000
RDATE:20270328T030000
TZOFFSETFROM:+0200
TZOFFSETTO:+0100
TZNAME:Europe/Berlin CET
END:STANDARD
BEGIN:STANDARD
DTSTART:20271031T020000
RDATE:20280326T030000
TZOFFSETFROM:+0200
TZOFFSETTO:+0100
TZNAME:Europe/Berlin CET
END:STANDARD
BEGIN:STANDARD
DTSTART:20281029T020000
RDATE:20290325T030000
TZOFFSETFROM:+0200
TZOFFSETTO:+0100
TZNAME:Europe/Berlin CET
END:STANDARD
BEGIN:DAYLIGHT
DTSTART:20190331T030000
RDATE:20191027T020000
TZOFFSETFROM:+0100
TZOFFSETTO:+0200
TZNAME:Europe/Berlin CEST
END:DAYLIGHT
BEGIN:DAYLIGHT
DTSTART:20200329T030000
RDATE:20201025T020000
TZOFFSETFROM:+0100
TZOFFSETTO:+0200
TZNAME:Europe/Berlin CEST
END:DAYLIGHT
BEGIN:DAYLIGHT
DTSTART:20210328T030000
RDATE:20211031T020000
TZOFFSETFROM:+0100
TZOFFSETTO:+0200
TZNAME:Europe/Berlin CEST
END:DAYLIGHT
BEGIN:DAYLIGHT
DTSTART:20220327T030000
RDATE:20221030T020000
TZOFFSETFROM:+0100
TZOFFSETTO:+0200
TZNAME:Europe/Berlin CEST
END:DAYLIGHT
BEGIN:DAYLIGHT
DTSTART:20230326T030000
RDATE:20231029T020000
TZOFFSETFROM:+0100
TZOFFSETTO:+0200
TZNAME:Europe/Berlin CEST
END:DAYLIGHT
BEGIN:DAYLIGHT
DTSTART:20240331T030000
RDATE:20241027T020000
TZOFFSETFROM:+0100
TZOFFSETTO:+0200
TZNAME:Europe/Berlin CEST
END:DAYLIGHT
BEGIN:DAYLIGHT
DTSTART:20250330T030000
RDATE:20251026T020000
TZOFFSETFROM:+0100
TZOFFSETTO:+0200
TZNAME:Europe/Berlin CEST
END:DAYLIGHT
BEGIN:DAYLIGHT
DTSTART:20260329T030000
RDATE:20261025T020000
TZOFFSETFROM:+0100
TZOFFSETTO:+0200
TZNAME:Europe/Berlin CEST
END:DAYLIGHT
BEGIN:DAYLIGHT
DTSTART:20270328T030000
RDATE:20271031T020000
TZOFFSETFROM:+0100
TZOFFSETTO:+0200
TZNAME:Europe/Berlin CEST
END:DAYLIGHT
BEGIN:DAYLIGHT
DTSTART:20280326T030000
RDATE:20281029T020000
TZOFFSETFROM:+0100
TZOFFSETTO:+0200
TZNAME:Europe/Berlin CEST
END:DAYLIGHT
END:VTIMEZONE
BEGIN:VEVENT
UID:8245ec2661d02dab68d784e202c0cd79
CATEGORIES:Oldtimerfreunde Probstei
CREATED:20200117T230835
SUMMARY:Kein Clubabend im März
LOCATION:Irrgarten
URL;VALUE=URI:https://otfp.de/veranstaltungen/eventdetail/2304/kein-clubabend-im-maerz.ht
 ml?tmpl=component
DESCRIPTION:<p>Clubabend März fällt leider aus. Wir wünschen euch dennoch ein schönes W
 ochenende. Aktuelle Infos immer unter "<a href="corona" target="_self" clas
 s="jcepopup" data-mediabox="1">otfp.de/corona</a>"</p><p><span style="text-
 decoration: line-through;">Auf dem monatlichen Clubabend wird der Verein we
 iter gestaltet. Die Themen sind unter Anderem:</span></p><p><span style="te
 xt-decoration: line-through;">- 17. Ostsee-Traktorentreffen in Krokau 2020<
 /span></p><p><span style="text-decoration: line-through;">- Bildungsfahrt</
 span></p><p><span style="text-decoration: line-through;">- Maifahrt</span><
 /p><p><span style="text-decoration: line-through;">- weitere Themen</span><
 /p><p>&nbsp;</p><p>&nbsp;</p> <a href="https://otfp.de/veranstaltungen/even
 tdetail/2304/kein-clubabend-im-maerz.html?tmpl=component">Dieser Event wurd
 e importiert von: https://otfp.de/veranstaltungen/eventdetail/2304/kein-clu
 babend-im-maerz.html?tmpl=component</a>
X-ALT-DESC;FMTTYPE=text/html:<p>Clubabend März fällt leider aus. Wir wünschen euch dennoch ein schönes W
 ochenende. Aktuelle Infos immer unter "<a href="https://otfp.de/corona" tar
 get="_self" class="jcepopup" data-mediabox="1">otfp.de/corona</a>"</p><p><s
 pan style="text-decoration: line-through;">Auf dem monatlichen Clubabend wi
 rd der Verein weiter gestaltet. Die Themen sind unter Anderem:</span></p><p
 ><span style="text-decoration: line-through;">- 17. Ostsee-Traktorentreffen
  in Krokau 2020</span></p><p><span style="text-decoration: line-through;">-
  Bildungsfahrt</span></p><p><span style="text-decoration: line-through;">- 
 Maifahrt</span></p><p><span style="text-decoration: line-through;">- weiter
 e Themen</span></p><p>&nbsp;</p><p>&nbsp;</p> <a href="https://otfp.de/vera
 nstaltungen/eventdetail/2304/kein-clubabend-im-maerz.html?tmpl=component">D
 ieser Event wurde importiert von: https://otfp.de/veranstaltungen/eventdeta
 il/2304/kein-clubabend-im-maerz.html?tmpl=component</a>DTSTAMP:20260420T023455
DTSTART;TZID=Europe/Berlin:20200327T200000
SEQUENCE:0
TRANSP:OPAQUE
END:VEVENT
END:VCALENDAR