BEGIN:VCALENDAR
VERSION:2.0
PRODID:-//jEvents 2.0 for Joomla//EN
CALSCALE:GREGORIAN
METHOD:PUBLISH
BEGIN:VTIMEZONE
TZID:Europe/Berlin
BEGIN:STANDARD
DTSTART:20191027T020000
RDATE:20200329T030000
TZOFFSETFROM:+0200
TZOFFSETTO:+0100
TZNAME:Europe/Berlin CET
END:STANDARD
BEGIN:STANDARD
DTSTART:20201025T020000
RDATE:20210328T030000
TZOFFSETFROM:+0200
TZOFFSETTO:+0100
TZNAME:Europe/Berlin CET
END:STANDARD
BEGIN:STANDARD
DTSTART:20211031T020000
RDATE:20220327T030000
TZOFFSETFROM:+0200
TZOFFSETTO:+0100
TZNAME:Europe/Berlin CET
END:STANDARD
BEGIN:STANDARD
DTSTART:20221030T020000
RDATE:20230326T030000
TZOFFSETFROM:+0200
TZOFFSETTO:+0100
TZNAME:Europe/Berlin CET
END:STANDARD
BEGIN:STANDARD
DTSTART:20231029T020000
RDATE:20240331T030000
TZOFFSETFROM:+0200
TZOFFSETTO:+0100
TZNAME:Europe/Berlin CET
END:STANDARD
BEGIN:STANDARD
DTSTART:20241027T020000
RDATE:20250330T030000
TZOFFSETFROM:+0200
TZOFFSETTO:+0100
TZNAME:Europe/Berlin CET
END:STANDARD
BEGIN:STANDARD
DTSTART:20251026T020000
RDATE:20260329T030000
TZOFFSETFROM:+0200
TZOFFSETTO:+0100
TZNAME:Europe/Berlin CET
END:STANDARD
BEGIN:STANDARD
DTSTART:20261025T020000
RDATE:20270328T030000
TZOFFSETFROM:+0200
TZOFFSETTO:+0100
TZNAME:Europe/Berlin CET
END:STANDARD
BEGIN:STANDARD
DTSTART:20271031T020000
RDATE:20280326T030000
TZOFFSETFROM:+0200
TZOFFSETTO:+0100
TZNAME:Europe/Berlin CET
END:STANDARD
BEGIN:STANDARD
DTSTART:20281029T020000
RDATE:20290325T030000
TZOFFSETFROM:+0200
TZOFFSETTO:+0100
TZNAME:Europe/Berlin CET
END:STANDARD
BEGIN:DAYLIGHT
DTSTART:20190712T100000
RDATE:20191027T020000
TZOFFSETFROM:+0100
TZOFFSETTO:+0200
TZNAME:Europe/Berlin CEST
END:DAYLIGHT
BEGIN:DAYLIGHT
DTSTART:20200329T030000
RDATE:20201025T020000
TZOFFSETFROM:+0100
TZOFFSETTO:+0200
TZNAME:Europe/Berlin CEST
END:DAYLIGHT
BEGIN:DAYLIGHT
DTSTART:20210328T030000
RDATE:20211031T020000
TZOFFSETFROM:+0100
TZOFFSETTO:+0200
TZNAME:Europe/Berlin CEST
END:DAYLIGHT
BEGIN:DAYLIGHT
DTSTART:20220327T030000
RDATE:20221030T020000
TZOFFSETFROM:+0100
TZOFFSETTO:+0200
TZNAME:Europe/Berlin CEST
END:DAYLIGHT
BEGIN:DAYLIGHT
DTSTART:20230326T030000
RDATE:20231029T020000
TZOFFSETFROM:+0100
TZOFFSETTO:+0200
TZNAME:Europe/Berlin CEST
END:DAYLIGHT
BEGIN:DAYLIGHT
DTSTART:20240331T030000
RDATE:20241027T020000
TZOFFSETFROM:+0100
TZOFFSETTO:+0200
TZNAME:Europe/Berlin CEST
END:DAYLIGHT
BEGIN:DAYLIGHT
DTSTART:20250330T030000
RDATE:20251026T020000
TZOFFSETFROM:+0100
TZOFFSETTO:+0200
TZNAME:Europe/Berlin CEST
END:DAYLIGHT
BEGIN:DAYLIGHT
DTSTART:20260329T030000
RDATE:20261025T020000
TZOFFSETFROM:+0100
TZOFFSETTO:+0200
TZNAME:Europe/Berlin CEST
END:DAYLIGHT
BEGIN:DAYLIGHT
DTSTART:20270328T030000
RDATE:20271031T020000
TZOFFSETFROM:+0100
TZOFFSETTO:+0200
TZNAME:Europe/Berlin CEST
END:DAYLIGHT
BEGIN:DAYLIGHT
DTSTART:20280326T030000
RDATE:20281029T020000
TZOFFSETFROM:+0100
TZOFFSETTO:+0200
TZNAME:Europe/Berlin CEST
END:DAYLIGHT
END:VTIMEZONE
BEGIN:VEVENT
UID:80c83d862545edfa207d033f472c7fff
CATEGORIES:Zu Besuch
CREATED:20200331T204518
SUMMARY:Abgesagt: Traktorentreffen Molfsee Freilichtmuseum
LOCATION:Freilichtmuseum Molfsee
URL;VALUE=URI:https://otfp.de/veranstaltungen/eventdetail/2320/abgesagt-traktorentreffen-
 molfsee-freilichtmuseum.html?tmpl=component
DESCRIPTION:<p>Auch dieser Termin fällt aus. Der Lanz Bulldog-Club Holstein veranstalte
 t seit 1994 in jedem Jahr das Treffen auf den Wiesen des Freilichtmuseums M
 olfsee. Zum Klang der alten Einzylinder haben auch alle Gebäude ihre Ausste
 llung geöffnet. Das Treffen ist bei uns für die besondere Stimmung beliebt.
 </p><p>Zur Veranstaltung gelten die regulären Eintrittspreise des Freilicht
 museums Molfsee.</p><p><a href="HTTPS://www.lbch.de">LBCH</a></p><p><a href
 ="https://freilichtmuseum-sh.de/de/programm?tid=1882#einzeltermin">Freilich
 tmuseum Molfsee: Lanz-Bulldog-Treffen</a></p> <a href="https://otfp.de/vera
 nstaltungen/eventdetail/2320/abgesagt-traktorentreffen-molfsee-freilichtmus
 eum.html?tmpl=component">Dieser Event wurde importiert von: https://otfp.de
 /veranstaltungen/eventdetail/2320/abgesagt-traktorentreffen-molfsee-freilic
 htmuseum.html?tmpl=component</a>
X-ALT-DESC;FMTTYPE=text/html:<p>Auch dieser Termin fällt aus. Der Lanz Bulldog-Club Holstein veranstalte
 t seit 1994 in jedem Jahr das Treffen auf den Wiesen des Freilichtmuseums M
 olfsee. Zum Klang der alten Einzylinder haben auch alle Gebäude ihre Ausste
 llung geöffnet. Das Treffen ist bei uns für die besondere Stimmung beliebt.
 </p><p>Zur Veranstaltung gelten die regulären Eintrittspreise des Freilicht
 museums Molfsee.</p><p><a href="https://otfp.de/HTTPS://www.lbch.de">LBCH</
 a></p><p><a href="https://freilichtmuseum-sh.de/de/programm?tid=1882#einzel
 termin">Freilichtmuseum Molfsee: Lanz-Bulldog-Treffen</a></p> <a href="http
 s://otfp.de/veranstaltungen/eventdetail/2320/abgesagt-traktorentreffen-molf
 see-freilichtmuseum.html?tmpl=component">Dieser Event wurde importiert von:
  https://otfp.de/veranstaltungen/eventdetail/2320/abgesagt-traktorentreffen
 -molfsee-freilichtmuseum.html?tmpl=component</a>X-EXTRAINFO:Treffen um 9:00 in Trensahl, dann geht es in der Kolonne nach Molfsee
DTSTAMP:20260419T235304
DTSTART;TZID=Europe/Berlin:20200712T100000
DTEND;TZID=Europe/Berlin:20200712T160000
SEQUENCE:0
TRANSP:OPAQUE
END:VEVENT
END:VCALENDAR