BEGIN:VCALENDAR
VERSION:2.0
PRODID:-//jEvents 2.0 for Joomla//EN
CALSCALE:GREGORIAN
METHOD:PUBLISH
BEGIN:VTIMEZONE
TZID:Europe/Berlin
BEGIN:STANDARD
DTSTART:20241212T010000
RDATE:20250330T030000
TZOFFSETFROM:+0200
TZOFFSETTO:+0100
TZNAME:Europe/Berlin CET
END:STANDARD
BEGIN:STANDARD
DTSTART:20251026T020000
RDATE:20260329T030000
TZOFFSETFROM:+0200
TZOFFSETTO:+0100
TZNAME:Europe/Berlin CET
END:STANDARD
BEGIN:STANDARD
DTSTART:20261025T020000
RDATE:20270328T030000
TZOFFSETFROM:+0200
TZOFFSETTO:+0100
TZNAME:Europe/Berlin CET
END:STANDARD
BEGIN:STANDARD
DTSTART:20271031T020000
RDATE:20280326T030000
TZOFFSETFROM:+0200
TZOFFSETTO:+0100
TZNAME:Europe/Berlin CET
END:STANDARD
BEGIN:STANDARD
DTSTART:20281029T020000
RDATE:20290325T030000
TZOFFSETFROM:+0200
TZOFFSETTO:+0100
TZNAME:Europe/Berlin CET
END:STANDARD
BEGIN:DAYLIGHT
DTSTART:20250330T030000
RDATE:20251026T020000
TZOFFSETFROM:+0100
TZOFFSETTO:+0200
TZNAME:Europe/Berlin CEST
END:DAYLIGHT
BEGIN:DAYLIGHT
DTSTART:20260329T030000
RDATE:20261025T020000
TZOFFSETFROM:+0100
TZOFFSETTO:+0200
TZNAME:Europe/Berlin CEST
END:DAYLIGHT
BEGIN:DAYLIGHT
DTSTART:20270328T030000
RDATE:20271031T020000
TZOFFSETFROM:+0100
TZOFFSETTO:+0200
TZNAME:Europe/Berlin CEST
END:DAYLIGHT
BEGIN:DAYLIGHT
DTSTART:20280326T030000
RDATE:20281029T020000
TZOFFSETFROM:+0100
TZOFFSETTO:+0200
TZNAME:Europe/Berlin CEST
END:DAYLIGHT
END:VTIMEZONE
BEGIN:VEVENT
UID:f3128f33b1b92dfebb787109f30426a3
CATEGORIES:Oldtimerfreunde Probstei
CREATED:20250202T124402
SUMMARY:Grünkohlessen im Irrgarten
LOCATION:Irrgarten
URL;VALUE=URI:https://otfp.de/veranstaltungen/eventdetail/2445/gruenkohlessen-im-irrgarte
 n.html?tmpl=component
DESCRIPTION:Grünkohlessen im Irrgarten. Info per Post. Anmeldung bei Jürgen.\n Dieser E
 vent wurde importiert von: https://otfp.de/veranstaltungen/eventdetail/2445
 /gruenkohlessen-im-irrgarten.html?tmpl=component (https://otfp.de/veranstal
 tungen/eventdetail/2445/gruenkohlessen-im-irrgarten.html?tmpl=component)
X-ALT-DESC;FMTTYPE=text/html:<p>Grünkohlessen im Irrgarten. Info per Post. Anmeldung bei Jürgen.</p> <a 
 href="https://otfp.de/veranstaltungen/eventdetail/2445/gruenkohlessen-im-ir
 rgarten.html?tmpl=component">Dieser Event wurde importiert von: https://otf
 p.de/veranstaltungen/eventdetail/2445/gruenkohlessen-im-irrgarten.html?tmpl
 =component</a>DTSTAMP:20260420T085253
DTSTART;TZID=Europe/Berlin:20251213T010000
DTEND;TZID=Europe/Berlin:20251213T220000
SEQUENCE:0
TRANSP:OPAQUE
END:VEVENT
END:VCALENDAR